BEGIN:VCALENDAR
VERSION:2.0
PRODID:-//hacksw/handcal//NONSGML v1.0//EN
BEGIN:VEVENT
DTSTAMP:20160522T083000Z
DTSTART:20160522T083000Z
DTEND:20160522T083000Z
SUMMARY:Fahrradtour der CDU Hohenwestedt
END:VEVENT
END:VCALENDAR
