BEGIN:VCALENDAR
VERSION:2.0
PRODID:-//hacksw/handcal//NONSGML v1.0//EN
BEGIN:VEVENT
DTSTAMP:20160607T160000Z
DTSTART:20160607T160000Z
DTEND:20160607T160000Z
SUMMARY:Vortrag der Senioren Union Regionalverband Mittelholstein
END:VEVENT
END:VCALENDAR
