BEGIN:VCALENDAR
VERSION:2.0
PRODID:-//hacksw/handcal//NONSGML v1.0//EN
BEGIN:VEVENT
DTSTAMP:20160709T043000Z
DTSTART:20160709T043000Z
DTEND:20160709T043000Z
SUMMARY:Besichtigung der Meyer Werft in Papenburg der CDU Noer-Lindhöft
END:VEVENT
END:VCALENDAR
