BEGIN:VCALENDAR
VERSION:2.0
PRODID:-//hacksw/handcal//NONSGML v1.0//EN
BEGIN:VEVENT
DTSTAMP:20151112T183000Z
DTSTART:20151112T183000Z
DTEND:20151112T203000Z
LOCATION:Mangos, Eckernförde, Deutschland
SUMMARY:Podiumsdiskussion der Senioren Union Ortsverband Eckernförde mit der Jungen Union
END:VEVENT
END:VCALENDAR
