BEGIN:VCALENDAR
VERSION:2.0
PRODID:-//hacksw/handcal//NONSGML v1.0//EN
BEGIN:VEVENT
DTSTAMP:20151030T230000Z
DTSTART:20151030T230000Z
DTEND:20151030T230000Z
LOCATION:Kreis Plön, Kreis Plön, Deutschland
SUMMARY:Schleswig-Holstein-Rat der Jungen Union SH
END:VEVENT
END:VCALENDAR
