BEGIN:VCALENDAR
VERSION:2.0
PRODID:-//hacksw/handcal//NONSGML v1.0//EN
BEGIN:VEVENT
DTSTAMP:20151015T220000Z
DTSTART:20151015T220000Z
DTEND:20151017T220000Z
LOCATION:Hamburg, 20459, Deutschland
SUMMARY:Deutschlandtag der Jungen Union Deutschlands
END:VEVENT
END:VCALENDAR
