BEGIN:VCALENDAR
VERSION:2.0
PRODID:-//hacksw/handcal//NONSGML v1.0//EN
BEGIN:VEVENT
DTSTAMP:20150917T140000Z
DTSTART:20150917T140000Z
DTEND:20150917T160000Z
LOCATION:Ratskeller, Eckernförde, Deutschland
SUMMARY:Seniorennachmittag der Senioren Union Ortsverband Eckernförde
END:VEVENT
END:VCALENDAR
