BEGIN:VCALENDAR
VERSION:2.0
PRODID:-//hacksw/handcal//NONSGML v1.0//EN
BEGIN:VEVENT
DTSTAMP:20150813T133000Z
DTSTART:20150813T133000Z
DTEND:20150813T160000Z
LOCATION:Nicolai-Kirche, Eckernförde, Deutschland
SUMMARY:Besichtigung der Nicolai-Kirche mit der Senioren Union Ortsverband Eckernförde
END:VEVENT
END:VCALENDAR
